BEGIN:VCALENDAR
VERSION:2.0
BEGIN:VEVENT
UID:ics69e7306f3ab4b
DTSTAMP:20260421T080815Z
LOCATION:Frauenwerk der Nordkirche
DESCRIPTION:
URL:https://www.hb5-nordkirche.de/veranstaltung/weltgebetstagswerkstatt---tageswerkstatt-kiel-1357185/
SUMMARY:Weltgebetstagswerkstatt - Tageswerkstatt Kiel
DTSTART:20231111T070000Z
DTEND:20231111T140000Z
END:VEVENT
END:VCALENDAR
