BEGIN:VCALENDAR
VERSION:2.0
BEGIN:VEVENT
UID:ics69e5e871a246a
DTSTAMP:20260420T084849Z
LOCATION:Online 
DESCRIPTION:
URL:https://www.hb5-nordkirche.de/veranstaltung/was-gibts-neues-der-kunst-salon-im-austausch-052024-1378472/
SUMMARY:Was gibt‘s Neues? Der Kunst-Salon IM AUSTAUSCH 05/2024
DTSTART:20240523T170000Z
DTEND:20240523T183000Z
END:VEVENT
END:VCALENDAR
