BEGIN:VCALENDAR
VERSION:2.0
BEGIN:VEVENT
UID:ics69e72fa74f3fb
DTSTAMP:20260421T080455Z
LOCATION:Online 
DESCRIPTION:
URL:https://www.hb5-nordkirche.de/veranstaltung/martin-luther-und-die-folgen-fuer-die-kunst---teil-1-1409648/
SUMMARY:Martin Luther und die Folgen für die Kunst - Teil 1
DTSTART:20250909T170000Z
DTEND:20250909T183000Z
END:VEVENT
END:VCALENDAR
