BEGIN:VCALENDAR
VERSION:2.0
BEGIN:VEVENT
UID:ics69e5e69a90df5
DTSTAMP:20260420T084058Z
LOCATION:auf Anfrage
DESCRIPTION:
URL:https://www.hb5-nordkirche.de/veranstaltung/herbstrueste-1324150/
SUMMARY:Herbstrüste
DTSTART:20221117T210000Z
DTEND:20221118T210000Z
END:VEVENT
END:VCALENDAR
