BEGIN:VCALENDAR
VERSION:2.0
BEGIN:VEVENT
UID:ics69e72f548ab88
DTSTAMP:20260421T080332Z
LOCATION:Kirche des Heiligen Johannes von Kronstadt
DESCRIPTION:
URL:https://www.hb5-nordkirche.de/veranstaltung/1-abend-russisch-orthodoxe-kirchengemeinde-hamburg-1357145/
SUMMARY:1. Abend: Russisch-Orthodoxe Kirchengemeinde Hamburg
DTSTART:20230606T160000Z
DTEND:20230606T183000Z
END:VEVENT
END:VCALENDAR
